BEGIN:VCALENDAR
VERSION:2.0
PRODID:-//eventon.com NONSGML v1.0//EN
CALSCALE:GREGORIAN
METHOD:PUBLISH
BEGIN:VEVENT
UID:69e5f58c08c1c
DTSTAMP:20260420T094444Z
DTSTART:20260524T093000Z
DTEND:20260524T235000Z
LOCATION:
SUMMARY:Matins
DESCRIPTION:Matins\nhttps://arrowvalechurches.org.uk/events/matins-9/
URL:https://arrowvalechurches.org.uk/events/matins-9/
END:VEVENT
END:VCALENDAR