BEGIN:VCALENDAR
VERSION:2.0
PRODID:-//eventon.com NONSGML v1.0//EN
CALSCALE:GREGORIAN
METHOD:PUBLISH
BEGIN:VEVENT
UID:69e747118af58
DTSTAMP:20260421T094449Z
DTSTART:20260125T093000Z
DTEND:20260125T235000Z
LOCATION:
SUMMARY:Holy Communion
DESCRIPTION:Holy Communion\nhttps://arrowvalechurches.org.uk/events/holy-co
 mmunion-83/
URL:https://arrowvalechurches.org.uk/events/holy-communion-83/
END:VEVENT
END:VCALENDAR