BEGIN:VCALENDAR
VERSION:2.0
PRODID:-//eventon.com NONSGML v1.0//EN
CALSCALE:GREGORIAN
METHOD:PUBLISH
BEGIN:VEVENT
UID:69e74815d834a
DTSTAMP:20260421T094909Z
DTSTART:20260118T110000Z
DTEND:20260118T235000Z
LOCATION:
SUMMARY:Holy Communion - Sung Service
DESCRIPTION:Holy Communion - Sung Service\nhttps://arrowvalechurches.org.uk
 /events/holy-communion-sung-service-5/
URL:https://arrowvalechurches.org.uk/events/holy-communion-sung-service-5/
END:VEVENT
END:VCALENDAR