BEGIN:VCALENDAR
VERSION:2.0
PRODID:-//eventon.com NONSGML v1.0//EN
CALSCALE:GREGORIAN
METHOD:PUBLISH
BEGIN:VEVENT
UID:69e745b1b6158
DTSTAMP:20260421T093857Z
DTSTART:20251225T110000Z
DTEND:20251225T235000Z
LOCATION:
SUMMARY:Holy Communion
DESCRIPTION:Holy Communion\nhttps://arrowvalechurches.org.uk/events/holy-co
 mmunion-79/
URL:https://arrowvalechurches.org.uk/events/holy-communion-79/
END:VEVENT
END:VCALENDAR