BEGIN:VCALENDAR
VERSION:2.0
PRODID:-//eventon.com NONSGML v1.0//EN
CALSCALE:GREGORIAN
METHOD:PUBLISH
BEGIN:VEVENT
UID:69e7470df3067
DTSTAMP:20260421T094445Z
DTSTART:20251207T093000Z
DTEND:20251207T235000Z
LOCATION:
SUMMARY:Holy Communion
DESCRIPTION:Holy Communion\nhttps://arrowvalechurches.org.uk/events/holy-co
 mmunion-74/
URL:https://arrowvalechurches.org.uk/events/holy-communion-74/
END:VEVENT
END:VCALENDAR