BEGIN:VCALENDAR
VERSION:2.0
PRODID:-//eventon.com NONSGML v1.0//EN
CALSCALE:GREGORIAN
METHOD:PUBLISH
BEGIN:VEVENT
UID:69e748751129f
DTSTAMP:20260421T095045Z
DTSTART:20241225T093000Z
DTEND:20241225T235000Z
LOCATION:
SUMMARY:Morning Service for Christmas Day
DESCRIPTION:Morning Service for Christmas Day\nhttps://arrowvalechurches.or
 g.uk/events/morning-service-for-christmas-day/
URL:https://arrowvalechurches.org.uk/events/morning-service-for-christmas-day/
END:VEVENT
END:VCALENDAR