BEGIN:VCALENDAR
VERSION:2.0
PRODID:-//eventon.com NONSGML v1.0//EN
CALSCALE:GREGORIAN
METHOD:PUBLISH
BEGIN:VEVENT
UID:69e7470e0162b
DTSTAMP:20260421T094446Z
DTSTART:20241225T093000Z
DTEND:20241225T235000Z
LOCATION:
SUMMARY:Christmas Communion
DESCRIPTION:Christmas Communion\nhttps://arrowvalechurches.org.uk/events/ch
 ristmas-communion/
URL:https://arrowvalechurches.org.uk/events/christmas-communion/
END:VEVENT
END:VCALENDAR