BEGIN:VCALENDAR
VERSION:2.0
PRODID:-//eventon.com NONSGML v1.0//EN
CALSCALE:GREGORIAN
METHOD:PUBLISH
BEGIN:VEVENT
UID:69e74823cb461
DTSTAMP:20260421T094923Z
DTSTART:20241103T110000Z
DTEND:20241103T235000Z
LOCATION:
SUMMARY:Harvest Festival
DESCRIPTION:Followed by Lunch. Please contact Margaret Edwards on margaret@
 edwardsbyton.co.uk for further details and to book.\nhttps://arrowvalechurc
 hes.org.uk/events/harvest-festival-5/
URL:https://arrowvalechurches.org.uk/events/harvest-festival-5/
END:VEVENT
END:VCALENDAR