BEGIN:VCALENDAR
VERSION:2.0
PRODID:-//eventon.com NONSGML v1.0//EN
CALSCALE:GREGORIAN
METHOD:PUBLISH
BEGIN:VEVENT
UID:69e62efd88676
DTSTAMP:20260420T134949Z
DTSTART:20240328T070000Z
DTEND:20240328T235000Z
LOCATION:
SUMMARY:Maundy Thursday Holy Communion and stripping the altars at Pembridge
DESCRIPTION:Maundy Thursday Holy Communion and stripping the altars at Pemb
 ridge\nhttps://arrowvalechurches.org.uk/events/maundy-thursday-holy-communi
 on-and-stripping-the-altars-at-pembridge/
URL:https://arrowvalechurches.org.uk/events/maundy-thursday-holy-communion-and-stripping-the-altars-at-pembridge/
END:VEVENT
END:VCALENDAR