BEGIN:VCALENDAR
VERSION:2.0
PRODID:-//eventon.com NONSGML v1.0//EN
CALSCALE:GREGORIAN
METHOD:PUBLISH
BEGIN:VEVENT
UID:69e5f622944fd
DTSTAMP:20260420T094714Z
DTSTART:20231112T093000Z
DTEND:20231112T235000Z
LOCATION:
SUMMARY:Staunton Remembrance Sunday
DESCRIPTION:Staunton Remembrance Sunday\nhttps://arrowvalechurches.org.uk/e
 vents/staunton-remembrance-sunday/
URL:https://arrowvalechurches.org.uk/events/staunton-remembrance-sunday/
END:VEVENT
END:VCALENDAR